BEGIN:VCALENDAR
VERSION:2.0
PRODID:icalendar-ruby
CALSCALE:GREGORIAN
METHOD:PUBLISH
BEGIN:VEVENT
DTSTAMP:20260425T131533Z
UID:20-1399552@baileysgrovebaptistchurch.com
DTSTART:20260930T223000Z
DTEND:20260930T233000Z
CLASS:PUBLIC
CREATED:20260425T080417
DESCRIPTION:Patch &amp\; PeeWee Clubs
LAST-MODIFIED:20260425T080417
LOCATION:
SUMMARY:Patch & PeeWee Clubs
URL;VALUE=URI:https://www.baileysgrovebaptistchurch.com/events/patch-peewee
 -clubs/2026-09-30
ATTACH;FILENAME=patch.png;FMTTYPE=image/png:https://dq5pwpg1q8ru0.cloudfron
 t.net/2024/08/14/14/10/44/034bd39e-938f-4b15-ad33-fe92b5b550e4/patch.png
END:VEVENT
END:VCALENDAR
