BEGIN:VCALENDAR
VERSION:2.0
PRODID:icalendar-ruby
CALSCALE:GREGORIAN
METHOD:PUBLISH
BEGIN:VEVENT
DTSTAMP:20260423T043312Z
UID:12-1390977@baileysgrovebaptistchurch.com
DTSTART:20260920T220000Z
DTEND:20260920T233000Z
CLASS:PUBLIC
CREATED:20260422T224449
DESCRIPTION:Please join us at 6 PM every Sunday evening! \nYou can also wa
 tch our livestream on YouTube.
LAST-MODIFIED:20260422T224449
LOCATION:
SUMMARY:Evening Service
URL;VALUE=URI:https://www.baileysgrovebaptistchurch.com/events/evening-serv
 ice--12/2026-09-20
ATTACH;FILENAME=AdobeStock_317301353.jpeg;FMTTYPE=image/jpeg:https://dq5pwp
 g1q8ru0.cloudfront.net/2024/05/16/17/54/45/c376c6e7-7b04-4959-90b2-c8e2241
 c444a/AdobeStock_317301353.jpeg
END:VEVENT
END:VCALENDAR
